BEGIN:VCALENDAR
VERSION:2.0
PRODID:-//eventon.com NONSGML v1.0//EN
CALSCALE:GREGORIAN
METHOD:PUBLISH
BEGIN:VEVENT
UID:69e734cc63510
DTSTAMP:20260421T082652Z
DTSTART:20250621T070000Z
DTEND:20250621T100000Z
LOCATION:Blessed Cafe Sylvan Village Shops\,  63 Sylvan Dr\,  Moore Park Beach QLD 4670
SUMMARY:Annual General Meeting
DESCRIPTION:Annual General Meeting\nhttps://mooreparkslsc.com.au/events/ann
 ual-general-meeting-2/
URL:https://mooreparkslsc.com.au/events/annual-general-meeting-2/
END:VEVENT
END:VCALENDAR