BEGIN:VCALENDAR
VERSION:2.0
PRODID:-//eventon.com NONSGML v1.0//EN
CALSCALE:GREGORIAN
METHOD:PUBLISH
BEGIN:VEVENT
UID:69e736d5c2d33
DTSTAMP:20260421T083533Z
DTSTART:20250613T073000Z
DTEND:20250613T100000Z
LOCATION:Moore Park Beach Tavern 16 Murdochs Rd\,  Bundaberg Central QLD 4670
SUMMARY:Fundraising: Silver Salty Raffle!
DESCRIPTION:Enjoy good food\,  laughter\,  and great company as part of our
  Silver Salties crew—a fantastic group proving that age is no barrier to 
 staying active and connected. We’ll be selling raffle tickets for 8 delic
 ious meat trays\,  with every dollar helping support our club—from unifor
 ms and board maintenance to first[..]\nhttps://mooreparkslsc.com.au/events/
 silver-salty-raffle/var/ri-7.l-L1
URL:https://mooreparkslsc.com.au/events/silver-salty-raffle/var/ri-7.l-L1
END:VEVENT
END:VCALENDAR