BEGIN:VCALENDAR
VERSION:2.0
PRODID:-//eventon.com NONSGML v1.0//EN
CALSCALE:GREGORIAN
METHOD:PUBLISH
BEGIN:VEVENT
UID:69e736ef63851
DTSTAMP:20260421T083559Z
DTSTART:20240417T080000Z
DTEND:20240417T093000Z
LOCATION:
SUMMARY:Child Safety/Blue Cards Training
DESCRIPTION:Guide you through Child Safety legislation\,  emphasising the s
 ignificance of Blue Cards in safeguarding vulnerable members. REGISTER HERE
 \nhttps://mooreparkslsc.com.au/events/child-safety-blue-cards-training/
URL:https://mooreparkslsc.com.au/events/child-safety-blue-cards-training/
END:VEVENT
END:VCALENDAR